BEGIN:VCALENDAR
VERSION:2.0
PRODID:-//Volt Europa//Events//EN
CALSCALE:GREGORIAN
METHOD:PUBLISH
BEGIN:VEVENT
UID:takim-online-me-volt-kosoven-1745060400@voltkosova.org
DTSTAMP:20260425T132309Z
DTSTART;TZID=Europe/Belgrade:20250419T130000
DTEND;TZID=Europe/Belgrade:20250419T143000
SUMMARY:Takim Online me Volt Kosovën
DESCRIPTION:Je kurioz/e të dish çka është Volt dhe çka synojmë në Ko
 sovë? Na u bashko në një Meet & Greet online për me mësu më shumë rr
 eth lëvizjes sonë progresive\, panevropiane\, dhe për me pa si mundesh m
 e qenë pjesë e saj.
LOCATION:Online
URL:https://voltkosova.org/ngjarjet/takim-online-me-volt-kosoven
END:VEVENT
END:VCALENDAR
