BEGIN:VCALENDAR
VERSION:2.0
PRODID:-//Volt Europa//Events//EN
CALSCALE:GREGORIAN
METHOD:PUBLISH
BEGIN:VEVENT
UID:volt-meet-and-greet-1723302000@voltkosova.org
DTSTAMP:20260425T104734Z
DTSTART;TZID=Europe/Belgrade:20240810T170000
DTEND;TZID=Europe/Belgrade:20240810T190000
SUMMARY:Volt "Meet and Greet"
DESCRIPTION:Takim dhe Përshëndetje me Volt Shqipëri Data: 10 Gusht Ora: 
 17:00 Vendndodhja: Lulishte 1 Maji\, Tiranë Eja dhe tako anëtarët e Volt
  Shqipëria për të diskutuar rreth politikës dhe takuar njerëz që ndaj
 në të njëjtin mendim me ty. Kjo është një mundësi e shkëlqyer për 
 të ndarë idetë e tua me miq të rinj. Mos e humb mundësinë e një pasd
 iteje të mbushur me diskutime interesante dhe shoqëri të mirë. Le të t
 akohemi! Shënim: Pijet dhe ushqimi do të paguhen nga vetë pjesëmarrësi
 t.
LOCATION:Lulishte 1 Maji
URL:https://voltkosova.org/ngjarjet/volt-meet-and-greet
END:VEVENT
END:VCALENDAR
